BEGIN:VCALENDAR
VERSION:2.0
PRODID:-//Beth Yeshoua - ECPv6.15.20//NONSGML v1.0//EN
CALSCALE:GREGORIAN
METHOD:PUBLISH
X-ORIGINAL-URL:https://bethyeshoua.org
X-WR-CALDESC:Évènements pour Beth Yeshoua
REFRESH-INTERVAL;VALUE=DURATION:PT1H
X-Robots-Tag:noindex
X-PUBLISHED-TTL:PT1H
BEGIN:VTIMEZONE
TZID:Europe/Brussels
BEGIN:DAYLIGHT
TZOFFSETFROM:+0100
TZOFFSETTO:+0200
TZNAME:CEST
DTSTART:20250330T010000
END:DAYLIGHT
BEGIN:STANDARD
TZOFFSETFROM:+0200
TZOFFSETTO:+0100
TZNAME:CET
DTSTART:20251026T010000
END:STANDARD
BEGIN:DAYLIGHT
TZOFFSETFROM:+0100
TZOFFSETTO:+0200
TZNAME:CEST
DTSTART:20260329T010000
END:DAYLIGHT
BEGIN:STANDARD
TZOFFSETFROM:+0200
TZOFFSETTO:+0100
TZNAME:CET
DTSTART:20261025T010000
END:STANDARD
BEGIN:DAYLIGHT
TZOFFSETFROM:+0100
TZOFFSETTO:+0200
TZNAME:CEST
DTSTART:20270328T010000
END:DAYLIGHT
BEGIN:STANDARD
TZOFFSETFROM:+0200
TZOFFSETTO:+0100
TZNAME:CET
DTSTART:20271031T010000
END:STANDARD
END:VTIMEZONE
BEGIN:VEVENT
DTSTART;TZID=Europe/Brussels:20260303T190000
DTEND;TZID=Europe/Brussels:20260303T210000
DTSTAMP:20260421T063741
CREATED:20260217T151157Z
LAST-MODIFIED:20260217T151214Z
UID:20975-1772564400-1772571600@bethyeshoua.org
SUMMARY:Réunion mensuelle comité
DESCRIPTION:
URL:https://bethyeshoua.org/event/reunion-comite/
CATEGORIES:Réunions stf
END:VEVENT
BEGIN:VEVENT
DTSTART;TZID=Europe/Brussels:20260305T180000
DTEND;TZID=Europe/Brussels:20260305T190000
DTSTAMP:20260421T063741
CREATED:20260212T092426Z
LAST-MODIFIED:20260308T144117Z
UID:20874-1772733600-1772737200@bethyeshoua.org
SUMMARY:Cours d'hébreu
DESCRIPTION:
URL:https://bethyeshoua.org/event/parasha-23-peqoude/
LOCATION:Zoom
CATEGORIES:Cours groupés
END:VEVENT
BEGIN:VEVENT
DTSTART;TZID=Europe/Brussels:20260305T193000
DTEND;TZID=Europe/Brussels:20260305T210000
DTSTAMP:20260421T063741
CREATED:20260308T151525Z
LAST-MODIFIED:20260308T151525Z
UID:21299-1772739000-1772744400@bethyeshoua.org
SUMMARY:Réunion de prière
DESCRIPTION:
URL:https://bethyeshoua.org/event/reunion-de-priere-24/
LOCATION:Zoom
CATEGORIES:Prières
ORGANIZER;CN="BETHYESHOUA":MAILTO:bethyeshoua@gmail.com
END:VEVENT
BEGIN:VEVENT
DTSTART;TZID=Europe/Brussels:20260306T190000
DTEND;TZID=Europe/Brussels:20260306T210000
DTSTAMP:20260421T063741
CREATED:20260308T145342Z
LAST-MODIFIED:20260308T145342Z
UID:21268-1772823600-1772830800@bethyeshoua.org
SUMMARY:Erev Shabbat
DESCRIPTION:
URL:https://bethyeshoua.org/event/erev-shabbat-14/
CATEGORIES:Réunions publiques
END:VEVENT
BEGIN:VEVENT
DTSTART;TZID=Europe/Brussels:20260306T200000
DTEND;TZID=Europe/Brussels:20260306T210000
DTSTAMP:20260421T063741
CREATED:20260308T145423Z
LAST-MODIFIED:20260308T145423Z
UID:21270-1772827200-1772830800@bethyeshoua.org
SUMMARY:Cours d'hébreu
DESCRIPTION:
URL:https://bethyeshoua.org/event/cours-dhebreu-69/
LOCATION:Zoom
CATEGORIES:Cours groupés
END:VEVENT
BEGIN:VEVENT
DTSTART;TZID=Europe/Brussels:20260307T110000
DTEND;TZID=Europe/Brussels:20260307T130000
DTSTAMP:20260421T063741
CREATED:20260212T091226Z
LAST-MODIFIED:20260212T092229Z
UID:20870-1772881200-1772888400@bethyeshoua.org
SUMMARY:Parasha 21 Ki Tisa
DESCRIPTION:Ki Tisa\nEx 30:11 – 34:35\nMar 7\, ’26
URL:https://bethyeshoua.org/event/parasha-21-ki-tisa/
LOCATION:Zoom
CATEGORIES:parashot
ORGANIZER;CN="BETHYESHOUA":MAILTO:bethyeshoua@gmail.com
END:VEVENT
BEGIN:VEVENT
DTSTART;TZID=Europe/Brussels:20260307T160000
DTEND;TZID=Europe/Brussels:20260307T180000
DTSTAMP:20260421T063741
CREATED:20260108T165827Z
LAST-MODIFIED:20260308T144953Z
UID:20543-1772899200-1772906400@bethyeshoua.org
SUMMARY:Culte de shabbat et fraction du pain
DESCRIPTION:Message Pasteur Joël Athia
URL:https://bethyeshoua.org/event/culte-de-shabbat-et-fraction-du-pain/
CATEGORIES:shabbat
END:VEVENT
BEGIN:VEVENT
DTSTART;TZID=Europe/Brussels:20260308T100000
DTEND;TZID=Europe/Brussels:20260308T120000
DTSTAMP:20260421T063741
CREATED:20260108T165650Z
LAST-MODIFIED:20260308T151647Z
UID:20541-1772964000-1772971200@bethyeshoua.org
SUMMARY:Réunion Entr'Elles
DESCRIPTION:
URL:https://bethyeshoua.org/event/reunion-entrelles-3/
CATEGORIES:Réunions publiques
END:VEVENT
BEGIN:VEVENT
DTSTART;TZID=Europe/Brussels:20260309T193000
DTEND;TZID=Europe/Brussels:20260309T203000
DTSTAMP:20260421T063741
CREATED:20260212T085214Z
LAST-MODIFIED:20260217T145554Z
UID:20845-1773084600-1773088200@bethyeshoua.org
SUMMARY:Cours d'hébreu
DESCRIPTION:
URL:https://bethyeshoua.org/event/cours-dhebreu-61/
LOCATION:Zoom
CATEGORIES:Cours groupés
END:VEVENT
BEGIN:VEVENT
DTSTART;TZID=Europe/Brussels:20260309T210000
DTEND;TZID=Europe/Brussels:20260309T220000
DTSTAMP:20260421T063741
CREATED:20260212T085238Z
LAST-MODIFIED:20260217T145627Z
UID:20847-1773090000-1773093600@bethyeshoua.org
SUMMARY:Cours d'hébreu
DESCRIPTION:
URL:https://bethyeshoua.org/event/cours-dhebreu-62/
LOCATION:Zoom
CATEGORIES:Cours groupés
END:VEVENT
BEGIN:VEVENT
DTSTART;TZID=Europe/Brussels:20260311T103000
DTEND;TZID=Europe/Brussels:20260311T123000
DTSTAMP:20260421T063741
CREATED:20260308T151845Z
LAST-MODIFIED:20260308T151845Z
UID:21301-1773225000-1773232200@bethyeshoua.org
SUMMARY:Cours hébreu - guitare
DESCRIPTION:
URL:https://bethyeshoua.org/event/cours-hebreu-guitare/
CATEGORIES:Cours groupés
END:VEVENT
BEGIN:VEVENT
DTSTART;TZID=Europe/Brussels:20260312T180000
DTEND;TZID=Europe/Brussels:20260312T190000
DTSTAMP:20260421T063741
CREATED:20260308T144139Z
LAST-MODIFIED:20260308T144139Z
UID:21250-1773338400-1773342000@bethyeshoua.org
SUMMARY:Cours d'hébreu
DESCRIPTION:
URL:https://bethyeshoua.org/event/cours-dhebreu-65/
LOCATION:Zoom
CATEGORIES:Cours groupés
END:VEVENT
BEGIN:VEVENT
DTSTART;TZID=Europe/Brussels:20260312T193000
DTEND;TZID=Europe/Brussels:20260312T210000
DTSTAMP:20260421T063741
CREATED:20260308T144323Z
LAST-MODIFIED:20260308T144650Z
UID:21256-1773343800-1773349200@bethyeshoua.org
SUMMARY:Réunion de prière
DESCRIPTION:
URL:https://bethyeshoua.org/event/reunion-de-priere-21/
LOCATION:Zoom
CATEGORIES:Prières
ORGANIZER;CN="BETHYESHOUA":MAILTO:bethyeshoua@gmail.com
END:VEVENT
BEGIN:VEVENT
DTSTART;TZID=Europe/Brussels:20260313T190000
DTEND;TZID=Europe/Brussels:20260313T210000
DTSTAMP:20260421T063741
CREATED:20260308T145508Z
LAST-MODIFIED:20260308T145508Z
UID:21272-1773428400-1773435600@bethyeshoua.org
SUMMARY:Erev Shabbat
DESCRIPTION:
URL:https://bethyeshoua.org/event/erev-shabbat-15/
CATEGORIES:Réunions publiques
END:VEVENT
BEGIN:VEVENT
DTSTART;TZID=Europe/Brussels:20260313T200000
DTEND;TZID=Europe/Brussels:20260313T210000
DTSTAMP:20260421T063741
CREATED:20260308T145627Z
LAST-MODIFIED:20260308T145627Z
UID:21278-1773432000-1773435600@bethyeshoua.org
SUMMARY:Cours d'hébreu
DESCRIPTION:
URL:https://bethyeshoua.org/event/cours-dhebreu-70/
LOCATION:Zoom
CATEGORIES:Cours groupés
END:VEVENT
BEGIN:VEVENT
DTSTART;TZID=Europe/Brussels:20260314T110000
DTEND;TZID=Europe/Brussels:20260314T130000
DTSTAMP:20260421T063741
CREATED:20260212T092339Z
LAST-MODIFIED:20260308T152135Z
UID:20872-1773486000-1773493200@bethyeshoua.org
SUMMARY:Parasha 22-23 Vayakhel - Péqoudé
DESCRIPTION:Vayakhel\nEx 35:1 – 38:20\nMar 14\, ’26\n\n\n\n\n\n\nPekuday\nEx 38:21 – 40:38\nMar 14\, ’26\n\n\n\nMessage Giuseppe C.
URL:https://bethyeshoua.org/event/parasha-22-vayakhel/
LOCATION:Zoom
CATEGORIES:parashot
ORGANIZER;CN="BETHYESHOUA":MAILTO:bethyeshoua@gmail.com
END:VEVENT
BEGIN:VEVENT
DTSTART;TZID=Europe/Brussels:20260316T193000
DTEND;TZID=Europe/Brussels:20260316T203000
DTSTAMP:20260421T063741
CREATED:20260308T150936Z
LAST-MODIFIED:20260308T150936Z
UID:21287-1773689400-1773693000@bethyeshoua.org
SUMMARY:Cours d'hébreu
DESCRIPTION:
URL:https://bethyeshoua.org/event/cours-dhebreu-73/
LOCATION:Zoom
CATEGORIES:Cours groupés
END:VEVENT
BEGIN:VEVENT
DTSTART;TZID=Europe/Brussels:20260316T210000
DTEND;TZID=Europe/Brussels:20260316T220000
DTSTAMP:20260421T063741
CREATED:20260308T151231Z
LAST-MODIFIED:20260308T151231Z
UID:21293-1773694800-1773698400@bethyeshoua.org
SUMMARY:Cours d'hébreu
DESCRIPTION:
URL:https://bethyeshoua.org/event/cours-dhebreu-76/
LOCATION:Zoom
CATEGORIES:Cours groupés
END:VEVENT
BEGIN:VEVENT
DTSTART;TZID=Europe/Brussels:20260319T180000
DTEND;TZID=Europe/Brussels:20260319T190000
DTSTAMP:20260421T063741
CREATED:20260308T144159Z
LAST-MODIFIED:20260308T144159Z
UID:21252-1773943200-1773946800@bethyeshoua.org
SUMMARY:Cours d'hébreu
DESCRIPTION:
URL:https://bethyeshoua.org/event/cours-dhebreu-66/
LOCATION:Zoom
CATEGORIES:Cours groupés
END:VEVENT
BEGIN:VEVENT
DTSTART;TZID=Europe/Brussels:20260319T193000
DTEND;TZID=Europe/Brussels:20260319T210000
DTSTAMP:20260421T063741
CREATED:20260308T144340Z
LAST-MODIFIED:20260308T144735Z
UID:21258-1773948600-1773954000@bethyeshoua.org
SUMMARY:Réunion de prière
DESCRIPTION:
URL:https://bethyeshoua.org/event/reunion-de-priere-22/
LOCATION:Zoom
CATEGORIES:Prières
ORGANIZER;CN="BETHYESHOUA":MAILTO:bethyeshoua@gmail.com
END:VEVENT
BEGIN:VEVENT
DTSTART;TZID=Europe/Brussels:20260320T190000
DTEND;TZID=Europe/Brussels:20260320T210000
DTSTAMP:20260421T063741
CREATED:20260308T145526Z
LAST-MODIFIED:20260308T145526Z
UID:21274-1774033200-1774040400@bethyeshoua.org
SUMMARY:Erev Shabbat
DESCRIPTION:
URL:https://bethyeshoua.org/event/erev-shabbat-16/
CATEGORIES:Réunions publiques
END:VEVENT
BEGIN:VEVENT
DTSTART;TZID=Europe/Brussels:20260320T200000
DTEND;TZID=Europe/Brussels:20260320T210000
DTSTAMP:20260421T063741
CREATED:20260308T145645Z
LAST-MODIFIED:20260308T145645Z
UID:21280-1774036800-1774040400@bethyeshoua.org
SUMMARY:Cours d'hébreu
DESCRIPTION:
URL:https://bethyeshoua.org/event/cours-dhebreu-71/
LOCATION:Zoom
CATEGORIES:Cours groupés
END:VEVENT
BEGIN:VEVENT
DTSTART;TZID=Europe/Brussels:20260321T110000
DTEND;TZID=Europe/Brussels:20260321T130000
DTSTAMP:20260421T063741
CREATED:20260212T092546Z
LAST-MODIFIED:20260212T092546Z
UID:20876-1774090800-1774098000@bethyeshoua.org
SUMMARY:Parasha 24 Vayiqra
DESCRIPTION:Vayikra\nLev 1:1 – 5:26\nMar 21\, ’26
URL:https://bethyeshoua.org/event/parasha-24-vayiqra/
LOCATION:Zoom
CATEGORIES:parashot
ORGANIZER;CN="BETHYESHOUA":MAILTO:bethyeshoua@gmail.com
END:VEVENT
BEGIN:VEVENT
DTSTART;TZID=Europe/Brussels:20260321T160000
DTEND;TZID=Europe/Brussels:20260321T180000
DTSTAMP:20260421T063741
CREATED:20260212T100434Z
LAST-MODIFIED:20260212T100434Z
UID:20891-1774108800-1774116000@bethyeshoua.org
SUMMARY:Culte de shabbat (Message Joël Athia)
DESCRIPTION:
URL:https://bethyeshoua.org/event/culte-de-shabbat-message-joel-athia/
CATEGORIES:shabbat
END:VEVENT
BEGIN:VEVENT
DTSTART;TZID=Europe/Brussels:20260323T193000
DTEND;TZID=Europe/Brussels:20260323T203000
DTSTAMP:20260421T063741
CREATED:20260308T151014Z
LAST-MODIFIED:20260308T151023Z
UID:21289-1774294200-1774297800@bethyeshoua.org
SUMMARY:Cours d'hébreu
DESCRIPTION:
URL:https://bethyeshoua.org/event/cours-dhebreu-74/
LOCATION:Zoom
CATEGORIES:Cours groupés
END:VEVENT
BEGIN:VEVENT
DTSTART;TZID=Europe/Brussels:20260323T210000
DTEND;TZID=Europe/Brussels:20260323T220000
DTSTAMP:20260421T063741
CREATED:20260308T151251Z
LAST-MODIFIED:20260308T151303Z
UID:21295-1774299600-1774303200@bethyeshoua.org
SUMMARY:Cours d'hébreu
DESCRIPTION:
URL:https://bethyeshoua.org/event/cours-dhebreu-77/
LOCATION:Zoom
CATEGORIES:Cours groupés
END:VEVENT
BEGIN:VEVENT
DTSTART;TZID=Europe/Brussels:20260326T180000
DTEND;TZID=Europe/Brussels:20260326T190000
DTSTAMP:20260421T063741
CREATED:20260308T144221Z
LAST-MODIFIED:20260308T144221Z
UID:21254-1774548000-1774551600@bethyeshoua.org
SUMMARY:Cours d'hébreu
DESCRIPTION:
URL:https://bethyeshoua.org/event/cours-dhebreu-67/
LOCATION:Zoom
CATEGORIES:Cours groupés
END:VEVENT
BEGIN:VEVENT
DTSTART;TZID=Europe/Brussels:20260326T193000
DTEND;TZID=Europe/Brussels:20260326T210000
DTSTAMP:20260421T063741
CREATED:20260308T144410Z
LAST-MODIFIED:20260308T144812Z
UID:21260-1774553400-1774558800@bethyeshoua.org
SUMMARY:Réunion de prière
DESCRIPTION:
URL:https://bethyeshoua.org/event/reunion-de-priere-23/
LOCATION:Zoom
CATEGORIES:Prières
ORGANIZER;CN="BETHYESHOUA":MAILTO:bethyeshoua@gmail.com
END:VEVENT
BEGIN:VEVENT
DTSTART;TZID=Europe/Brussels:20260327T190000
DTEND;TZID=Europe/Brussels:20260327T210000
DTSTAMP:20260421T063741
CREATED:20260308T145547Z
LAST-MODIFIED:20260308T145547Z
UID:21276-1774638000-1774645200@bethyeshoua.org
SUMMARY:Erev Shabbat
DESCRIPTION:
URL:https://bethyeshoua.org/event/erev-shabbat-17/
CATEGORIES:Réunions publiques
END:VEVENT
BEGIN:VEVENT
DTSTART;TZID=Europe/Brussels:20260327T200000
DTEND;TZID=Europe/Brussels:20260327T210000
DTSTAMP:20260421T063741
CREATED:20260308T145705Z
LAST-MODIFIED:20260308T145705Z
UID:21282-1774641600-1774645200@bethyeshoua.org
SUMMARY:Cours d'hébreu
DESCRIPTION:
URL:https://bethyeshoua.org/event/cours-dhebreu-72/
LOCATION:Zoom
CATEGORIES:Cours groupés
END:VEVENT
END:VCALENDAR