BEGIN:VCALENDAR
VERSION:2.0
PRODID:-//Beth Yeshoua - ECPv6.15.20//NONSGML v1.0//EN
CALSCALE:GREGORIAN
METHOD:PUBLISH
X-ORIGINAL-URL:https://bethyeshoua.org
X-WR-CALDESC:Évènements pour Beth Yeshoua
REFRESH-INTERVAL;VALUE=DURATION:PT1H
X-Robots-Tag:noindex
X-PUBLISHED-TTL:PT1H
BEGIN:VTIMEZONE
TZID:Europe/Brussels
BEGIN:DAYLIGHT
TZOFFSETFROM:+0100
TZOFFSETTO:+0200
TZNAME:CEST
DTSTART:20240331T010000
END:DAYLIGHT
BEGIN:STANDARD
TZOFFSETFROM:+0200
TZOFFSETTO:+0100
TZNAME:CET
DTSTART:20241027T010000
END:STANDARD
BEGIN:DAYLIGHT
TZOFFSETFROM:+0100
TZOFFSETTO:+0200
TZNAME:CEST
DTSTART:20250330T010000
END:DAYLIGHT
BEGIN:STANDARD
TZOFFSETFROM:+0200
TZOFFSETTO:+0100
TZNAME:CET
DTSTART:20251026T010000
END:STANDARD
BEGIN:DAYLIGHT
TZOFFSETFROM:+0100
TZOFFSETTO:+0200
TZNAME:CEST
DTSTART:20260329T010000
END:DAYLIGHT
BEGIN:STANDARD
TZOFFSETFROM:+0200
TZOFFSETTO:+0100
TZNAME:CET
DTSTART:20261025T010000
END:STANDARD
END:VTIMEZONE
BEGIN:VEVENT
DTSTART;VALUE=DATE:20251031
DTEND;VALUE=DATE:20251102
DTSTAMP:20260421T194308
CREATED:20250803T120721Z
LAST-MODIFIED:20250822T095143Z
UID:18648-1761868800-1762041599@bethyeshoua.org
SUMMARY:Congrès BIBLE\, PREHISTOIRE ET SCIENCE
DESCRIPTION:Congrès national à la Porte Ouverte « BIBLE\, PREHISTOIRE ET SCIENCE » \n \nBIBLE\, PREHISTOIRE ET SCIENCE\nCONGRES NATIONAL 2025\nMULHOUSE 31 OCT – 1 NOV
URL:https://bethyeshoua.org/event/congres-national-a-la-porte-ouverte-bible-prehistoire-et-science/
LOCATION:La Porte Ouverte Mulhouse\, 62 Rue de Kingersheim\, Mulhouse\, Alsace\, 68200\, France
CATEGORIES:sortie en groupe
END:VEVENT
END:VCALENDAR