BEGIN:VCALENDAR
VERSION:2.0
PRODID:-//Beth Yeshoua - ECPv6.15.20//NONSGML v1.0//EN
CALSCALE:GREGORIAN
METHOD:PUBLISH
X-WR-CALNAME:Beth Yeshoua
X-ORIGINAL-URL:https://bethyeshoua.org
X-WR-CALDESC:Évènements pour Beth Yeshoua
REFRESH-INTERVAL;VALUE=DURATION:PT1H
X-Robots-Tag:noindex
X-PUBLISHED-TTL:PT1H
BEGIN:VTIMEZONE
TZID:Europe/Brussels
BEGIN:DAYLIGHT
TZOFFSETFROM:+0100
TZOFFSETTO:+0200
TZNAME:CEST
DTSTART:20250330T010000
END:DAYLIGHT
BEGIN:STANDARD
TZOFFSETFROM:+0200
TZOFFSETTO:+0100
TZNAME:CET
DTSTART:20251026T010000
END:STANDARD
BEGIN:DAYLIGHT
TZOFFSETFROM:+0100
TZOFFSETTO:+0200
TZNAME:CEST
DTSTART:20260329T010000
END:DAYLIGHT
BEGIN:STANDARD
TZOFFSETFROM:+0200
TZOFFSETTO:+0100
TZNAME:CET
DTSTART:20261025T010000
END:STANDARD
BEGIN:DAYLIGHT
TZOFFSETFROM:+0100
TZOFFSETTO:+0200
TZNAME:CEST
DTSTART:20270328T010000
END:DAYLIGHT
BEGIN:STANDARD
TZOFFSETFROM:+0200
TZOFFSETTO:+0100
TZNAME:CET
DTSTART:20271031T010000
END:STANDARD
END:VTIMEZONE
BEGIN:VEVENT
DTSTART;TZID=Europe/Brussels:20260516T160000
DTEND;TZID=Europe/Brussels:20260516T180000
DTSTAMP:20260421T113657
CREATED:20260212T100550Z
LAST-MODIFIED:20260212T100619Z
UID:20895-1778947200-1778954400@bethyeshoua.org
SUMMARY:Culte de shabbat (Message Joël Athia)
DESCRIPTION:
URL:https://bethyeshoua.org/event/culte-de-shabbat-message-joel-athia-duplicate/
CATEGORIES:shabbat
END:VEVENT
END:VCALENDAR