BEGIN:VCALENDAR
VERSION:2.0
PRODID:-//Beth Yeshoua - ECPv6.15.20//NONSGML v1.0//EN
CALSCALE:GREGORIAN
METHOD:PUBLISH
X-ORIGINAL-URL:https://bethyeshoua.org
X-WR-CALDESC:Évènements pour Beth Yeshoua
REFRESH-INTERVAL;VALUE=DURATION:PT1H
X-Robots-Tag:noindex
X-PUBLISHED-TTL:PT1H
BEGIN:VTIMEZONE
TZID:Europe/Brussels
BEGIN:DAYLIGHT
TZOFFSETFROM:+0100
TZOFFSETTO:+0200
TZNAME:CEST
DTSTART:20240331T010000
END:DAYLIGHT
BEGIN:STANDARD
TZOFFSETFROM:+0200
TZOFFSETTO:+0100
TZNAME:CET
DTSTART:20241027T010000
END:STANDARD
BEGIN:DAYLIGHT
TZOFFSETFROM:+0100
TZOFFSETTO:+0200
TZNAME:CEST
DTSTART:20250330T010000
END:DAYLIGHT
BEGIN:STANDARD
TZOFFSETFROM:+0200
TZOFFSETTO:+0100
TZNAME:CET
DTSTART:20251026T010000
END:STANDARD
BEGIN:DAYLIGHT
TZOFFSETFROM:+0100
TZOFFSETTO:+0200
TZNAME:CEST
DTSTART:20260329T010000
END:DAYLIGHT
BEGIN:STANDARD
TZOFFSETFROM:+0200
TZOFFSETTO:+0100
TZNAME:CET
DTSTART:20261025T010000
END:STANDARD
END:VTIMEZONE
BEGIN:VEVENT
DTSTART;TZID=Europe/Brussels:20251018T110000
DTEND;TZID=Europe/Brussels:20251018T130000
DTSTAMP:20260421T185549
CREATED:20250928T155448Z
LAST-MODIFIED:20251012T090510Z
UID:18975-1760785200-1760792400@bethyeshoua.org
SUMMARY:Parasha Bereshit
DESCRIPTION:Commentaire sur la chaine YouTube de Beth Yeshoua
URL:https://bethyeshoua.org/event/parasha-bereshit/
CATEGORIES:parashot
END:VEVENT
END:VCALENDAR