BEGIN:VCALENDAR
VERSION:2.0
PRODID:-//Beth Yeshoua - ECPv6.15.20//NONSGML v1.0//EN
CALSCALE:GREGORIAN
METHOD:PUBLISH
X-WR-CALNAME:Beth Yeshoua
X-ORIGINAL-URL:https://bethyeshoua.org
X-WR-CALDESC:Évènements pour Beth Yeshoua
REFRESH-INTERVAL;VALUE=DURATION:PT1H
X-Robots-Tag:noindex
X-PUBLISHED-TTL:PT1H
BEGIN:VTIMEZONE
TZID:Europe/Brussels
BEGIN:DAYLIGHT
TZOFFSETFROM:+0100
TZOFFSETTO:+0200
TZNAME:CEST
DTSTART:20240331T010000
END:DAYLIGHT
BEGIN:STANDARD
TZOFFSETFROM:+0200
TZOFFSETTO:+0100
TZNAME:CET
DTSTART:20241027T010000
END:STANDARD
BEGIN:DAYLIGHT
TZOFFSETFROM:+0100
TZOFFSETTO:+0200
TZNAME:CEST
DTSTART:20250330T010000
END:DAYLIGHT
BEGIN:STANDARD
TZOFFSETFROM:+0200
TZOFFSETTO:+0100
TZNAME:CET
DTSTART:20251026T010000
END:STANDARD
BEGIN:DAYLIGHT
TZOFFSETFROM:+0100
TZOFFSETTO:+0200
TZNAME:CEST
DTSTART:20260329T010000
END:DAYLIGHT
BEGIN:STANDARD
TZOFFSETFROM:+0200
TZOFFSETTO:+0100
TZNAME:CET
DTSTART:20261025T010000
END:STANDARD
END:VTIMEZONE
BEGIN:VEVENT
DTSTART;TZID=Europe/Brussels:20251205T180000
DTEND;TZID=Europe/Brussels:20251205T193000
DTSTAMP:20260421T134140
CREATED:20250928T160542Z
LAST-MODIFIED:20251204T150832Z
UID:18989-1764957600-1764963000@bethyeshoua.org
SUMMARY:Parasha Vayishlakh (sous réserve)
DESCRIPTION:
URL:https://bethyeshoua.org/event/parasha-vayishlakh/
CATEGORIES:parashot
END:VEVENT
BEGIN:VEVENT
DTSTART;TZID=Europe/Brussels:20251213T110000
DTEND;TZID=Europe/Brussels:20251213T130000
DTSTAMP:20260421T134140
CREATED:20250928T160637Z
LAST-MODIFIED:20251204T150128Z
UID:18991-1765623600-1765630800@bethyeshoua.org
SUMMARY:Parasha Vayeshev
DESCRIPTION:
URL:https://bethyeshoua.org/event/parasha-vayeshev/
CATEGORIES:parashot
END:VEVENT
BEGIN:VEVENT
DTSTART;TZID=Europe/Brussels:20251220T110000
DTEND;TZID=Europe/Brussels:20251220T130000
DTSTAMP:20260421T134140
CREATED:20250928T160735Z
LAST-MODIFIED:20251204T150302Z
UID:18993-1766228400-1766235600@bethyeshoua.org
SUMMARY:Parasha Miqets
DESCRIPTION:
URL:https://bethyeshoua.org/event/parasha-miqets/
CATEGORIES:parashot
END:VEVENT
BEGIN:VEVENT
DTSTART;VALUE=DATE:20251227
DTEND;VALUE=DATE:20251228
DTSTAMP:20260421T134140
CREATED:20250928T160822Z
LAST-MODIFIED:20250928T160822Z
UID:18995-1766793600-1766879999@bethyeshoua.org
SUMMARY:Parasha Vayigash
DESCRIPTION:
URL:https://bethyeshoua.org/event/parasha-vayigash/
CATEGORIES:parashot
END:VEVENT
END:VCALENDAR