BEGIN:VCALENDAR
VERSION:2.0
PRODID:-//Beth Yeshoua - ECPv6.15.20//NONSGML v1.0//EN
CALSCALE:GREGORIAN
METHOD:PUBLISH
X-WR-CALNAME:Beth Yeshoua
X-ORIGINAL-URL:https://bethyeshoua.org
X-WR-CALDESC:Évènements pour Beth Yeshoua
REFRESH-INTERVAL;VALUE=DURATION:PT1H
X-Robots-Tag:noindex
X-PUBLISHED-TTL:PT1H
BEGIN:VTIMEZONE
TZID:Europe/Brussels
BEGIN:DAYLIGHT
TZOFFSETFROM:+0100
TZOFFSETTO:+0200
TZNAME:CEST
DTSTART:20250330T010000
END:DAYLIGHT
BEGIN:STANDARD
TZOFFSETFROM:+0200
TZOFFSETTO:+0100
TZNAME:CET
DTSTART:20251026T010000
END:STANDARD
BEGIN:DAYLIGHT
TZOFFSETFROM:+0100
TZOFFSETTO:+0200
TZNAME:CEST
DTSTART:20260329T010000
END:DAYLIGHT
BEGIN:STANDARD
TZOFFSETFROM:+0200
TZOFFSETTO:+0100
TZNAME:CET
DTSTART:20261025T010000
END:STANDARD
BEGIN:DAYLIGHT
TZOFFSETFROM:+0100
TZOFFSETTO:+0200
TZNAME:CEST
DTSTART:20270328T010000
END:DAYLIGHT
BEGIN:STANDARD
TZOFFSETFROM:+0200
TZOFFSETTO:+0100
TZNAME:CET
DTSTART:20271031T010000
END:STANDARD
END:VTIMEZONE
BEGIN:VEVENT
DTSTART;VALUE=DATE:20260421
DTEND;VALUE=DATE:20260423
DTSTAMP:20260421T042355
CREATED:20260416T125434Z
LAST-MODIFIED:20260416T125548Z
UID:22182-1776729600-1776902399@bethyeshoua.org
SUMMARY:YOM HAATSMAOUTH 2026
DESCRIPTION:De la Soirée de mardi 21 avril 2026 au mercredi 22 avril 2026 au soir ce sera la fête de Yom Haatsmaouth\, la fête d’indépendance de l’Etat d’Israel.\nCe mot « Haatsmaouth » tire sa racine biblique et son origine de ETSEM les « ossements » de Ezechiel 37. Ce passage s’est accompli en 1948 puis 1968 et se poursuit aujourd’hui étape par étape. Quand nous prions et prophétisons en demandant à l’Esprit de faire vivre Israël\, Dieu le fait sans l’ombre d’un doute. Si nous prions pour Israël Dieu s’occupera de nos besoins\, en sommes-nous convaincus? C’est la toute la question. Si nous bénissons Israël de la sorte\, Dieu ne peut que nous bénir en retour.\nPersévérons. Haatsmaouth vient de la racine « ATSAM » \n6105 atsam עָצַם une racine primaire dont le sens est :  puissant\, nombreux\, plein de force\, grand nombre\, grand\, avoir le dessus\, briser les os\, se multiplier\, s’accroître\, fermer\, se bander (les yeux) ; (20 occurences). \n-> être vaste\, être nombreux\, être puissant. \n-> Qal : être puissant\, être nombreux. \n6106 etsem עֶצֶם \nvient de 6105 : os\, ossements\, membre\, corps\, même\, (ce jour) là\, demeurer\, vigueur\, bien-être ; (126 occurences)\, essence\, substance\, le corps extérieur. \n6107 `Etsem עֶצֶם \nAtsem 2\, Etsem 1 ; « os » une ville dans le Nékeb de Juda ensuite attribuée à Siméon. \n6108 otsem עֹצֶם \nvient de 6105  puissance\, force\, corps ; (3 occurences)\, pouvoir\, les os\, puissance. \n6109 otsmah עָצְמָה \nvient de 6108 nombre\, force\, défaillance ; (3 occurences) pouvoir\, force\, puissance. \n6110 atstsoumah עַצֻּמָה [עֲצֻמֹות] \nvient de 6099 moyens de défense Es 41.21 – défense\, argument\, fort.
URL:https://bethyeshoua.org/event/yom-haatsmaouth-2026/
CATEGORIES:Fêtes
END:VEVENT
END:VCALENDAR